BEGIN:VCALENDAR
VERSION:2.0
PRODID:-//parents66.fr - ECPv6.15.20//NONSGML v1.0//EN
CALSCALE:GREGORIAN
METHOD:PUBLISH
X-WR-CALNAME:parents66.fr
X-ORIGINAL-URL:https://parents66.fr
X-WR-CALDESC:Évènements pour parents66.fr
REFRESH-INTERVAL;VALUE=DURATION:PT1H
X-Robots-Tag:noindex
X-PUBLISHED-TTL:PT1H
BEGIN:VTIMEZONE
TZID:Europe/Paris
BEGIN:DAYLIGHT
TZOFFSETFROM:+0100
TZOFFSETTO:+0200
TZNAME:CEST
DTSTART:20250330T010000
END:DAYLIGHT
BEGIN:STANDARD
TZOFFSETFROM:+0200
TZOFFSETTO:+0100
TZNAME:CET
DTSTART:20251026T010000
END:STANDARD
BEGIN:DAYLIGHT
TZOFFSETFROM:+0100
TZOFFSETTO:+0200
TZNAME:CEST
DTSTART:20260329T010000
END:DAYLIGHT
BEGIN:STANDARD
TZOFFSETFROM:+0200
TZOFFSETTO:+0100
TZNAME:CET
DTSTART:20261025T010000
END:STANDARD
BEGIN:DAYLIGHT
TZOFFSETFROM:+0100
TZOFFSETTO:+0200
TZNAME:CEST
DTSTART:20270328T010000
END:DAYLIGHT
BEGIN:STANDARD
TZOFFSETFROM:+0200
TZOFFSETTO:+0100
TZNAME:CET
DTSTART:20271031T010000
END:STANDARD
END:VTIMEZONE
BEGIN:VEVENT
DTSTART;TZID=Europe/Paris:20260423T133000
DTEND;TZID=Europe/Paris:20260423T174500
DTSTAMP:20260423T122813
CREATED:20210112T115501Z
LAST-MODIFIED:20260408T114247Z
UID:10001261-1776951000-1776966300@parents66.fr
SUMMARY:Les Laep vous accueillent le jeudi (0- 6 ans)
DESCRIPTION:Les Laep ouverts le jeudi\nDes lieux où futurs parents et parents de tout-petits se rencontrent\, et où les tout-petits s’épanouissent et grandissent en sécurité aux côtés d’autres enfants de leur âge en jouant librement \nOuvert à tous les enfants de moins de 6 ans accompagnés de leur parent ou d’un proche familier\, et aux futurs parents.\nGratuit et anonyme.\nVous venez et repartez quand vous le souhaitez sur les horaires d’ouverture. \nA Canohes\,  \n\nLaep (0 – 6 ans) : de 13h30 à 17h30 au 3 rue Romain Escudier (Maison de la petite enfance\, près de la crèche)\nContact : 04 68 51 43 07\n\nA Céret\,  \n\nLaep (0 – 6 ans) : de 14h à 16H30 au 29 rue Joseph Parayre (Jeunes pousses) / Fermé durant les congés scolaires\n\nA Perpignan\,  \n\nLaep Brin de malice (0 – 4 ans) : de 9h30 à 12h30\, 10 rue Nature / Fermé durant les vacances scolaires de Noël\, la dernière semaine de juillet et les 3 premières semaines d’août\nContact : 07 66 24 08 26\nLaep ZiwZaw (0 – 6 ans) : de 13h30 à 17h45\, 73 Esplanade du Nouveau Logis / Fermé la première semaine des congés scolaires et durant les congés d’été\nContact : 04 30 19 28 58\nLaep A petits pas… en famille (0 – 4 ans) : de 14h à 17h\, 25 rue Samuel de Champlain (dans les locaux du Relais petite enfance Nord-Ouest) / Fermé durant la seconde semaine des congés scolaires\nContact : 04 30 19 28 68 – laep.apetitspasenfamille@mairie-perpignan.com\n\nEn savoir plus sur les Laep
URL:https://parents66.fr/evenement/les-lieux-daccueils-enfants-parents-vous-accueillent-le-jeudi/2026-04-23/
CATEGORIES:Évènement parents
ATTACH;FMTTYPE=:
END:VEVENT
BEGIN:VEVENT
DTSTART;TZID=Europe/Paris:20260423T180000
DTEND;TZID=Europe/Paris:20260423T200000
DTSTAMP:20260423T122813
CREATED:20260415T085934Z
LAST-MODIFIED:20260415T115635Z
UID:10002409-1776967200-1776974400@parents66.fr
SUMMARY:Les écrans\, mieux les connaitre pour mieux les maitriser
DESCRIPTION:L’association Chemin Faisant propose un programme autour de la gestion des écrans \n 3 Soirées d’échange : Enfance & Ecrans / Ados & Ecrans / Petite enfance & Ecrans \n\nDes temps conviviaux dédiés à une question qui nous concerne tous : la place des écrans dans la vie de nos enfants.\n\n\nSans jugement ni culpabilisation\, cette rencontre sera l’occasion de partager vos expériences\, vos questions\, vos astuces… et peut-être repartir avec quelques idées simples pour trouver un équilibre au quotidien.\n\n\nQue vous vous sentiez serein\, dépassé\, curieux ou simplement intéressé par le sujet\, vous êtes les bienvenus \n\n\nSoirée animée par Betty Simeoni et Laurent Crastes.\n\n\n\n\n\n Envie d’en faire partie ? N’hésitez pas à vous inscrire et à nous suivre pour rester informés des prochaines actions !\n\n\nContact : contact@cheminfaisant-asso.fr –  04 68 04 84 17\n\nEn savoir plus sur les actions proposées par Chemin Faisant (Point accueil écoute jeunes ; Café des parents)
URL:https://parents66.fr/evenement/les-ecrans-mieux-les-connaitre-pour-mieux-les-maitriser/2026-04-23/
CATEGORIES:Évènement parents
ORGANIZER;CN="Chemin Faisant":MAILTO:contact@cheminfaisant-asso.fr
END:VEVENT
END:VCALENDAR